BEGIN:VCALENDAR
VERSION:2.0
PRODID:spatie/icalendar-generator
DESCRIPTION:Events from Ashbrook Place
X-WR-CALDESC:Events from Ashbrook Place
REFRESH-INTERVAL;VALUE=DURATION:PT1440M
X-PUBLISHED-TTL:PT1440M
BEGIN:VTIMEZONE
TZID:Etc/GMT+0
BEGIN:STANDARD
DTSTART:20230913T130000Z
TZOFFSETFROM:+0000
TZOFFSETTO:+0000
END:STANDARD
END:VTIMEZONE
BEGIN:VTIMEZONE
TZID:UTC
BEGIN:STANDARD
DTSTART:20250730T022116Z
TZOFFSETFROM:+0000
TZOFFSETTO:+0000
END:STANDARD
END:VTIMEZONE
BEGIN:VEVENT
UID:120-113
DTSTAMP:20260426T022116Z
SUMMARY:Association Board Meeting
LOCATION:
ORGANIZER;CN=Public Submitter:MAILTO:
DTSTART;TZID=Etc/GMT+0:20240609T130000
DTEND;TZID=Etc/GMT+0:20240609T150000
X-ALT-DESC;FMTTYPE=TEXT/HTML:The next regular meeting of the Ashbrook Place
  Residential Association Board will be held at 1 pm on Sunday\, June 9\, 2
 024. See the Notices section of the Residents’ Area for more details.
CATEGORIES:General
URL;VALUE=URI:
METHOD:PUBLISH
END:VEVENT
END:VCALENDAR