BEGIN:VCALENDAR
VERSION:2.0
PRODID:spatie/icalendar-generator
DESCRIPTION:Events from Ashbrook Place
X-WR-CALDESC:Events from Ashbrook Place
REFRESH-INTERVAL;VALUE=DURATION:PT1440M
X-PUBLISHED-TTL:PT1440M
BEGIN:VTIMEZONE
TZID:Etc/GMT+0
BEGIN:STANDARD
DTSTART:20240219T000000Z
TZOFFSETFROM:+0000
TZOFFSETTO:+0000
END:STANDARD
END:VTIMEZONE
BEGIN:VTIMEZONE
TZID:UTC
BEGIN:STANDARD
DTSTART:20250730T021119Z
TZOFFSETFROM:+0000
TZOFFSETTO:+0000
END:STANDARD
END:VTIMEZONE
BEGIN:VEVENT
UID:124-117
DTSTAMP:20260426T021119Z
SUMMARY:Fall Gutter Cleaning
LOCATION:
ORGANIZER;CN=AshbrookGrizzly:MAILTO:admin@ashbrookplace.org
DTSTART;TZID=Etc/GMT+0;VALUE=DATE:20241115
DTEND;TZID=Etc/GMT+0;VALUE=DATE:20241116
X-ALT-DESC;FMTTYPE=TEXT/HTML:No Residents action required.
CATEGORIES:General
URL;VALUE=URI:https://ashbrookplace.org/mc-events/fall-gutter-cleaning/
METHOD:PUBLISH
END:VEVENT
END:VCALENDAR