BEGIN:VCALENDAR
VERSION:2.0
PRODID:spatie/icalendar-generator
DESCRIPTION:Events from Ashbrook Place
X-WR-CALDESC:Events from Ashbrook Place
REFRESH-INTERVAL;VALUE=DURATION:PT1440M
X-PUBLISHED-TTL:PT1440M
BEGIN:VTIMEZONE
TZID:Etc/GMT+0
BEGIN:STANDARD
DTSTART:20240424T130000Z
TZOFFSETFROM:+0000
TZOFFSETTO:+0000
END:STANDARD
END:VTIMEZONE
BEGIN:VTIMEZONE
TZID:UTC
BEGIN:STANDARD
DTSTART:20250729T224207Z
TZOFFSETFROM:+0000
TZOFFSETTO:+0000
END:STANDARD
END:VTIMEZONE
BEGIN:VEVENT
UID:184-125
DTSTAMP:20260425T224207Z
SUMMARY:Association Board Meeting
LOCATION:
ORGANIZER;CN=AshbrookGrizzly:MAILTO:admin@ashbrookplace.org
DTSTART;TZID=Etc/GMT+0:20250119T130000
DTEND;TZID=Etc/GMT+0:20250119T150000
X-ALT-DESC;FMTTYPE=TEXT/HTML:A Meeting of the Ashbrook Place Residential As
 sociation Board will be held at 1 pm on Sunday\, January 19\, 2025. See th
 e Notices section of the Residents’ Area for more details.
CATEGORIES:General
URL;VALUE=URI:https://ashbrookplace.org/mc-events/association-board-meeting
 -2/
METHOD:PUBLISH
END:VEVENT
END:VCALENDAR