BEGIN:VCALENDAR
VERSION:2.0
PRODID:spatie/icalendar-generator
DESCRIPTION:Events from Ashbrook Place
X-WR-CALDESC:Events from Ashbrook Place
REFRESH-INTERVAL;VALUE=DURATION:PT1440M
X-PUBLISHED-TTL:PT1440M
BEGIN:VTIMEZONE
TZID:Etc/GMT+0
BEGIN:STANDARD
DTSTART:20250208T000000Z
TZOFFSETFROM:+0000
TZOFFSETTO:+0000
END:STANDARD
END:VTIMEZONE
BEGIN:VTIMEZONE
TZID:UTC
BEGIN:STANDARD
DTSTART:20250729T173547Z
TZOFFSETFROM:+0000
TZOFFSETTO:+0000
END:STANDARD
END:VTIMEZONE
BEGIN:VEVENT
UID:190-130
DTSTAMP:20260425T173547Z
SUMMARY:Winter Warning -- Remove Hoses from Exterior Water Taps!
LOCATION:
ORGANIZER;CN=AshbrookGrizzly:MAILTO:admin@ashbrookplace.org
DTSTART;TZID=Etc/GMT+0;VALUE=DATE:20251105
DTEND;TZID=Etc/GMT+0;VALUE=DATE:20251201
X-ALT-DESC;FMTTYPE=TEXT/HTML:Prepare for Winter: Be sure to take all hoses 
 off exterior water taps\, including the one in the garage to prevent pipes
  or faucets bursting. The “Frost Proof” faucets are evidently prone to
  bursting because they have thin walls.
CATEGORIES:General
URL;VALUE=URI:https://ashbrookplace.org/mc-events/winter-warning-remove-hos
 es-from-exterior-water-taps-2/
METHOD:PUBLISH
END:VEVENT
END:VCALENDAR