BEGIN:VCALENDAR
VERSION:2.0
PRODID:spatie/icalendar-generator
DESCRIPTION:Events from Ashbrook Place
X-WR-CALDESC:Events from Ashbrook Place
REFRESH-INTERVAL;VALUE=DURATION:PT1440M
X-PUBLISHED-TTL:PT1440M
BEGIN:VTIMEZONE
TZID:Etc/GMT+0
BEGIN:STANDARD
DTSTART:20250319T130000Z
TZOFFSETFROM:+0000
TZOFFSETTO:+0000
END:STANDARD
END:VTIMEZONE
BEGIN:VTIMEZONE
TZID:UTC
BEGIN:STANDARD
DTSTART:20250729T154530Z
TZOFFSETFROM:+0000
TZOFFSETTO:+0000
END:STANDARD
END:VTIMEZONE
BEGIN:VEVENT
UID:192-131
DTSTAMP:20260425T154530Z
SUMMARY:Association Board Meeting
LOCATION:
ORGANIZER;CN=AshbrookGrizzly:MAILTO:admin@ashbrookplace.org
DTSTART;TZID=Etc/GMT+0:20251214T130000
DTEND;TZID=Etc/GMT+0:20251214T140000
X-ALT-DESC;FMTTYPE=TEXT/HTML:A Meeting of the Ashbrook Place Residential As
 sociation Board will be held at 1 pm on Sunday\, December 14\, 2025. See t
 he Notices section of the Residents’ Area for more details.
CATEGORIES:General
URL;VALUE=URI:https://ashbrookplace.org/mc-events/association-board-meeting
 -5/
METHOD:PUBLISH
END:VEVENT
END:VCALENDAR