BEGIN:VCALENDAR
VERSION:2.0
PRODID:spatie/icalendar-generator
DESCRIPTION:Events from Ashbrook Place
X-WR-CALDESC:Events from Ashbrook Place
REFRESH-INTERVAL;VALUE=DURATION:PT1440M
X-PUBLISHED-TTL:PT1440M
BEGIN:VTIMEZONE
TZID:Etc/GMT+0
BEGIN:STANDARD
DTSTART:20250812T000000Z
TZOFFSETFROM:+0000
TZOFFSETTO:+0000
END:STANDARD
END:VTIMEZONE
BEGIN:VTIMEZONE
TZID:UTC
BEGIN:STANDARD
DTSTART:20250729T115236Z
TZOFFSETFROM:+0000
TZOFFSETTO:+0000
END:STANDARD
END:VTIMEZONE
BEGIN:VEVENT
UID:193-132
DTSTAMP:20260425T115236Z
SUMMARY:Spring Window Washing
LOCATION:
ORGANIZER;CN=AshbrookGrizzly:MAILTO:admin@ashbrookplace.org
DTSTART;TZID=Etc/GMT+0;VALUE=DATE:20260509
DTEND;TZID=Etc/GMT+0;VALUE=DATE:20260510
X-ALT-DESC;FMTTYPE=TEXT/HTML:Please remove all screens and unlock patio scr
 een door for the Spring Window Cleaning.
CATEGORIES:General
URL;VALUE=URI:https://ashbrookplace.org/mc-events/spring-window-washing/
METHOD:PUBLISH
END:VEVENT
END:VCALENDAR